BEGIN:VCALENDAR
METHOD:PUBLISH
PRODID:-//github.com/rianjs/ical.net//NONSGML ical.net 4.0//EN
VERSION:2.0
X-WR-CALNAME:North Bend Elementary PTA
BEGIN:VEVENT
CREATED:20250716T115708
DTEND:20260425T000000Z
DTSTAMP:20260423T123734Z
DTSTART:20260424T220000Z
LAST-MODIFIED:20250716T115708
SEQUENCE:0
STATUS:CONFIRMED
SUMMARY:BINGO Night
TRANSP:TRANSPARENT
UID:141971@ourschoolpages.com
END:VEVENT
END:VCALENDAR
